BEGIN:VCALENDAR
VERSION:2.0
PRODID:-//Kulturhaus Walle Brodelpott - ECPv6.15.20//NONSGML v1.0//EN
CALSCALE:GREGORIAN
METHOD:PUBLISH
X-WR-CALNAME:Kulturhaus Walle Brodelpott
X-ORIGINAL-URL:https://www.kulturhauswalle.de
X-WR-CALDESC:Veranstaltungen für Kulturhaus Walle Brodelpott
REFRESH-INTERVAL;VALUE=DURATION:PT1H
X-Robots-Tag:noindex
X-PUBLISHED-TTL:PT1H
BEGIN:VTIMEZONE
TZID:Europe/Berlin
BEGIN:DAYLIGHT
TZOFFSETFROM:+0100
TZOFFSETTO:+0200
TZNAME:CEST
DTSTART:20250330T010000
END:DAYLIGHT
BEGIN:STANDARD
TZOFFSETFROM:+0200
TZOFFSETTO:+0100
TZNAME:CET
DTSTART:20251026T010000
END:STANDARD
BEGIN:DAYLIGHT
TZOFFSETFROM:+0100
TZOFFSETTO:+0200
TZNAME:CEST
DTSTART:20260329T010000
END:DAYLIGHT
BEGIN:STANDARD
TZOFFSETFROM:+0200
TZOFFSETTO:+0100
TZNAME:CET
DTSTART:20261025T010000
END:STANDARD
BEGIN:DAYLIGHT
TZOFFSETFROM:+0100
TZOFFSETTO:+0200
TZNAME:CEST
DTSTART:20270328T010000
END:DAYLIGHT
BEGIN:STANDARD
TZOFFSETFROM:+0200
TZOFFSETTO:+0100
TZNAME:CET
DTSTART:20271031T010000
END:STANDARD
END:VTIMEZONE
BEGIN:VEVENT
DTSTART;TZID=Europe/Berlin:20260105T000000
DTEND;TZID=Europe/Berlin:20261223T235959
DTSTAMP:20260424T114242
CREATED:20251127T153341Z
LAST-MODIFIED:20251217T085410Z
UID:10001809-1767571200-1798070399@www.kulturhauswalle.de
SUMMARY:Neubeginn – Hans Brockmöllers Bremen-Fotos 1950-1970
DESCRIPTION:Bremische Bürgerschaft\, Am Markt 20\, 28195 Bremen \nHans Brockmöller (1911–1977) gilt als Chronist des Wiederaufbaus und der Bremer Häfen. Mit seiner Kamera hielt der Autodidakt das Leben in Bremen nach dem Krieg fotografisch fest: die Zerstörungen\, den Wiederaufbau\, den Alltag und die großen wie kleinen Ereignisse der Stadt. Die Ausstellung\, die in Kooperation mit der Bremischen Bürgerschaft präsentiert wird\, zeigt bisher unveröffentlichte Werke\, in denen der Wandel des urbanen Lebens und der Architektur in Bremen sichtbar wird. \nBitte Ferien und Sitzungswochen der Bürgerschaft beachten.
URL:https://www.kulturhauswalle.de/event/neubeginn-hans-brockmoellers-bremen-fotos-1950-1970/
CATEGORIES:Geschichte
ATTACH;FMTTYPE=image/jpeg:https://www.kulturhauswalle.de/wp-content/uploads/2025/11/Ausstellung-Brockmoeller-BB.jpg
END:VEVENT
BEGIN:VEVENT
DTSTART;TZID=Europe/Berlin:20260307T150000
DTEND;TZID=Europe/Berlin:20260430T180000
DTSTAMP:20260424T114242
CREATED:20251127T083314Z
LAST-MODIFIED:20251201T094736Z
UID:10001796-1772895600-1777572000@www.kulturhauswalle.de
SUMMARY:Angelika Bruns und Inge Koepsell – Ausstellung
DESCRIPTION:Zusammenspiel  \n\n\n\nMit Collagen\, Drucken\, Stickereien und Cyanotypien präsentieren Angelika Bruns und Inge Koepsell eine Auswahl ihrer künstlerischen Arbeiten.  \n\n\n\nDie Ausstellung lädt dazu ein\, den Blick zu schärfen und die filigranen Verbindungen zu entdecken – ein „Zusammenspiel“ von Ideen\, Materialien und Techniken. Die Werke stehen allein oder im gemeinsamen Austausch\, der durch wechselseitige Überarbeitung entstanden ist und die feine Kommunikation zwischen den Arbeiten sichtbar macht. Besucher:innen entdecken spannende Überschneidungen und die Dynamik persönlicher kreativer Prozesse. \n\n\n\nAusstellungseröffnung: 7.3.\, 15 Uhr | Eintritt frei!Öffnungszeiten: Mo. – Do. 14:30 -18 Uhr (in den Ferien nach Vereinbarung) \n\n\n\n\n\n\nLeider sind nicht alle unsere Räume barrierefrei. Ein Besuch mit dem Rollstuhl ist im Café und im Saal möglich. Dort findet der größte Teil unserer Veranstaltungen statt. Auch der Besuch des Bildarchivs und der Kreativwerkstatt ist mittels eines Treppenlifts möglich. Für die Nutzung des Geschichtsbereichs auf der Empore und der Toiletten müssen Sie einige Stufen überwinden. Eine barrierefreie Toilette befindet sich benachbart in der Musikschule und kann nach Absprache genutzt werden.
URL:https://www.kulturhauswalle.de/event/angelika-bruns-und-inge-koepsell-ausstellung/
CATEGORIES:Bühne | Events
ATTACH;FMTTYPE=image/jpeg:https://www.kulturhauswalle.de/wp-content/uploads/2025/11/koepsell_tanzender_Gluecksklee.jpg
END:VEVENT
BEGIN:VEVENT
DTSTART;TZID=Europe/Berlin:20260424T170000
DTEND;TZID=Europe/Berlin:20260424T210000
DTSTAMP:20260424T114242
CREATED:20251126T163824Z
LAST-MODIFIED:20251126T164141Z
UID:10001776-1777050000-1777064400@www.kulturhauswalle.de
SUMMARY:Mosaikabende
DESCRIPTION:In diesen Kursen können Sie unscheinbare Gebrauchsgegenstände in farbenprächtige Schmuckstücke verwandeln. Mit Keramikfliesenbruch oder Glas lassen sich z.B. einfache Spiegel\, Blumentöpfe\, Untersetzer oder Tische ganz individuell gestalten. Auch Mosaikhausnummern oder Wandbilder können unter Anleitung hergestellt werden. Die Mosaiktechnik ist leicht erlernbar und macht von Anfang an viel Spaß. Anfänger bekommen eine Einführung in die Technik. Fortgeschrittene können ihre Kenntnisse vertiefen. \n\n\n\n\nImmer freitags 17.00 – 21.00 | vierzehntägig (außer in den Schulferien)Termine können einzeln gebucht werden \n\n\n\nBeitrag pro Termin 25 € + 5 € für MaterialAnmeldung: Tel. 0421-829935\, i.raeder@kulturhauswalle.de \n\n\n\n\n\n\nLeider sind nicht alle unsere Räume barrierefrei. Ein Besuch mit dem Rollstuhl ist im Café und im Saal möglich. Dort findet der größte Teil unserer Veranstaltungen statt. Auch der Besuch des Bildarchivs und der Kreativwerkstatt ist mittels eines Treppenlifts möglich. Für die Nutzung des Geschichtsbereichs auf der Empore und der Toiletten müssen Sie einige Stufen überwinden. Eine barrierefreie Toilette befindet sich benachbart in der Musikschule und kann nach Absprache genutzt werden.
URL:https://www.kulturhauswalle.de/event/mosaikabende-33/2026-04-24/
CATEGORIES:Kreativ,Mosaik-Workshops
ATTACH;FMTTYPE=image/jpeg:https://www.kulturhauswalle.de/wp-content/uploads/2025/11/Mosaikabende-2026.jpg
END:VEVENT
BEGIN:VEVENT
DTSTART;TZID=Europe/Berlin:20260424T193000
DTEND;TZID=Europe/Berlin:20260424T233000
DTSTAMP:20260424T114242
CREATED:20251127T090657Z
LAST-MODIFIED:20260212T102455Z
UID:10001801-1777059000-1777073400@www.kulturhauswalle.de
SUMMARY:Qneipe
DESCRIPTION:Deine Qneipe im Bremer Westen \n\n\nEinmal im Monat findet im Brodelpott ein Kneipenabend für LSBTQIA+ statt. \nEine Gelegenheit für alle Queers sich im Bremer Westen zu treffen – kommt gern vorbei\, ob allein oder mit anderen\, im Fummel oder im Schlafanzug. \nNeben Getränken und Musik gibt es Raum für Eure Wünsche und immer mal wieder ein Thema: D.I.Y.\, Spieleabend oder Movie Night bis zu Karaoke oder dem gemeinsamen Ausprobieren neuer Drag Schminke ist alles möglich. Come as you are. Bring your friends. \nEintritt freiKommt bei Ideen oder Wünschen gern auf uns zu! \n\n\n\n\n\n\n\n\nLeider sind nicht alle unsere Räume barrierefrei. Ein Besuch mit dem Rollstuhl ist im Café und im Saal möglich. Dort findet der größte Teil unserer Veranstaltungen statt. Auch der Besuch des Bildarchivs und der Kreativwerkstatt ist mittels eines Treppenlifts möglich. Für die Nutzung des Geschichtsbereichs auf der Empore und der Toiletten müssen Sie einige Stufen überwinden. Eine barrierefreie Toilette befindet sich benachbart in der Musikschule und kann nach Absprache genutzt werden.
URL:https://www.kulturhauswalle.de/event/qneipe/2026-04-24/
CATEGORIES:Treffs | Gruppen
ATTACH;FMTTYPE=image/png:https://www.kulturhauswalle.de/wp-content/uploads/2025/11/Qneipe-4.png
END:VEVENT
END:VCALENDAR