BEGIN:VCALENDAR
VERSION:2.0
PRODID:-//Kulturhaus Walle Brodelpott - ECPv6.15.20//NONSGML v1.0//EN
CALSCALE:GREGORIAN
METHOD:PUBLISH
X-ORIGINAL-URL:https://www.kulturhauswalle.de
X-WR-CALDESC:Veranstaltungen für Kulturhaus Walle Brodelpott
REFRESH-INTERVAL;VALUE=DURATION:PT1H
X-Robots-Tag:noindex
X-PUBLISHED-TTL:PT1H
BEGIN:VTIMEZONE
TZID:UTC
BEGIN:STANDARD
TZOFFSETFROM:+0000
TZOFFSETTO:+0000
TZNAME:UTC
DTSTART:20210101T000000
END:STANDARD
END:VTIMEZONE
BEGIN:VTIMEZONE
TZID:Europe/Berlin
BEGIN:DAYLIGHT
TZOFFSETFROM:+0100
TZOFFSETTO:+0200
TZNAME:CEST
DTSTART:20220327T010000
END:DAYLIGHT
BEGIN:STANDARD
TZOFFSETFROM:+0200
TZOFFSETTO:+0100
TZNAME:CET
DTSTART:20221030T010000
END:STANDARD
BEGIN:DAYLIGHT
TZOFFSETFROM:+0100
TZOFFSETTO:+0200
TZNAME:CEST
DTSTART:20230326T010000
END:DAYLIGHT
BEGIN:STANDARD
TZOFFSETFROM:+0200
TZOFFSETTO:+0100
TZNAME:CET
DTSTART:20231029T010000
END:STANDARD
BEGIN:DAYLIGHT
TZOFFSETFROM:+0100
TZOFFSETTO:+0200
TZNAME:CEST
DTSTART:20240331T010000
END:DAYLIGHT
BEGIN:STANDARD
TZOFFSETFROM:+0200
TZOFFSETTO:+0100
TZNAME:CET
DTSTART:20241027T010000
END:STANDARD
END:VTIMEZONE
BEGIN:VEVENT
DTSTART;TZID=UTC:20221119T150000
DTEND;TZID=UTC:20230202T180000
DTSTAMP:20260419T173603
CREATED:20220704T091915Z
LAST-MODIFIED:20230118T104338Z
UID:10000547-1668870000-1675360800@www.kulturhauswalle.de
SUMMARY:Malerei von Andy Brock
DESCRIPTION:Tief beeindruckt von einem Ausstellungsbesuch in der Bremer Kunsthalle mit Bildern der Künstlergruppe „Der blaue Reiter“ lies sich Andy Brock verleiten selber den Pinsel in die Hand zu nehmen. \nInspiriert von den expressionistischen Bildern von August Macke und Franz Marc übte er den Umgang mit Farben und Flächen und bringt seit nun fast 21 Jahren ganz eigenwillig die persönlichen Empfindungen und Sichtweisen der Dinge auf die Leinwand. Die Motivation des Autodidakten\, der auch Gedichte schreibt\, ist immer die Betrachter:innen seiner Bilder emotional zu berühren dabei ist der eigene kreative Ausdruck als Kommunikationsform für Andy Brock  elementar. \n\n\n\n\n\n\nEröffnung: Sa. 19.11. | 15 UhrAusstellung: 19.11. – 2.2.2023
URL:https://www.kulturhauswalle.de/event/malerei-von-andy-brock/
ATTACH;FMTTYPE=image/jpeg:https://www.kulturhauswalle.de/wp-content/uploads/2022/07/Andy-Brock.jpeg
END:VEVENT
BEGIN:VEVENT
DTSTART;TZID=Europe/Berlin:20230203T170000
DTEND;TZID=Europe/Berlin:20230203T210000
DTSTAMP:20260419T173603
CREATED:20230130T093037Z
LAST-MODIFIED:20230130T093039Z
UID:10000803-1675443600-1675458000@www.kulturhauswalle.de
SUMMARY:Mosaikabende
DESCRIPTION:In diesen Kursen können Sie unscheinbare Gebrauchsgegenstände in farbenprächtige Schmuckstücke verwandeln. Mit Keramikfliesenbruch oder Glas lassen sich z.B. einfache Spiegel\, Blumentöpfe\, Untersetzer oder Tische ganz individuell gestalten. Auch Mosaikhausnummern oder Wandbilder können unter Anleitung hergestellt werden. Die Mosaiktechnik ist leicht erlernbar und macht von Anfang an viel Spaß. Anfänger bekommen eine Einführung in die Technik. Fortgeschrittene können ihre Kenntnisse vertiefen. \nBeitrag: 25 € + 5 € Material \nAnmeldungen unter i.raeder@kulturhauswalle.de oder Tel. 829 935
URL:https://www.kulturhauswalle.de/event/mosaikabende-4/
CATEGORIES:Kreativ,Mosaik-Workshops
ATTACH;FMTTYPE=image/jpeg:https://www.kulturhauswalle.de/wp-content/uploads/2023/01/Mosaik.jpg
END:VEVENT
BEGIN:VEVENT
DTSTART;TZID=UTC:20230205T110000
DTEND;TZID=UTC:20230205T161500
DTSTAMP:20260419T173603
CREATED:20220714T140707Z
LAST-MODIFIED:20230118T111234Z
UID:10000719-1675594800-1675613700@www.kulturhauswalle.de
SUMMARY:Filzwerkstatt für Anfänger in Kooperation mit der VHS
DESCRIPTION:Einführung in die Techniken des Nassfilzens: Pulswärmer oder Schals\, Taschen\, Handyhüllen\, Blumen\, Windlichter\, Sitzkissen\, Lampenhüllen u.a. können angefertigt werden. (Auch für Fortgeschrittene) \nBeitrag: 40 € + ca. 10 € für MaterialAnmeldungen bei der VHS\, Tel. 0421 362-8208
URL:https://www.kulturhauswalle.de/event/filzwerkstatt-fuer-anfaenger-in-kooperation-mit-der-vhs/
CATEGORIES:Kreativ,Mosaik-Workshops
ATTACH;FMTTYPE=image/jpeg:https://www.kulturhauswalle.de/wp-content/uploads/2022/07/Filzen-Erwachsene-1.jpg
END:VEVENT
BEGIN:VEVENT
DTSTART;TZID=UTC:20230207T160000
DTEND;TZID=UTC:20230207T180000
DTSTAMP:20260419T173603
CREATED:20220706T093746Z
LAST-MODIFIED:20230125T215218Z
UID:10000710-1675785600-1675792800@www.kulturhauswalle.de
SUMMARY:Die Sütterlinstunde – Hilfe bei der Transkription alter Dokumente
DESCRIPTION:Immer weniger Menschen können Sütterlin\, die Schreibschrift\, die unsere Großeltern und Urgroßeltern in der Schule lernten\, noch gut lesen. Viele alte Familienerinnerungen sind jedoch in dieser Schrift verfasst und für Ungeübte mittlerweile nur noch schwer zu entziffern. Hier wollen wir mit unserer neuen Reihe ansetzen.Zweimal im Monat lädt das Geschichtskontor im Kulturhaus Walle zur offenen Sütterlinstunde ein und unterstützt Sie bei der Transkription Ihrer Dokumente in alten Handschriften. Kurze Texte wie Bildunterschriften\, Postkarten und Urkunden\, die in Sütterlin oder in deutscher Schreibschrift geschrieben sind\, können Sie sich in der Sütterlinstunde auch direkt vor Ort übersetzen lassen.Eintritt frei. Anmeldung erforderlich! \n\n\nAnmelden\n\n\n\nOder unter a.piplak@kulturhauswalle.de | telefonisch 0421 3887074
URL:https://www.kulturhauswalle.de/event/die-suetterlinstunde-hilfe-bei-der-transkription-alter-dokumente-28/
CATEGORIES:Geschichte
ATTACH;FMTTYPE=image/jpeg:https://www.kulturhauswalle.de/wp-content/uploads/2022/04/IMG_1370-scaled-e1683645128243.jpg
END:VEVENT
BEGIN:VEVENT
DTSTART;TZID=UTC:20230207T180000
DTEND;TZID=UTC:20230207T200000
DTSTAMP:20260419T173603
CREATED:20220706T095206Z
LAST-MODIFIED:20230118T140315Z
UID:10000711-1675792800-1675800000@www.kulturhauswalle.de
SUMMARY:Geschichtstreff
DESCRIPTION:Ein offener Treff für Geschichtsinteressierte mit Angela Piplak: Neueingängeim Bildarchiv\, aktuelle Recherchen des Geschichtskontor\, Informationen.Neue Mitglieder willkommen. \nAnmeldung unter a.piplak@kulturhauswalle.de oder telefonisch 0421 3887074
URL:https://www.kulturhauswalle.de/event/geschichtstreff-10/
CATEGORIES:Treffs | Gruppen
ATTACH;FMTTYPE=image/jpeg:https://www.kulturhauswalle.de/wp-content/uploads/2021/09/Vom-Waller-Wasserturm-zum-Holzhafen_web.jpg
END:VEVENT
BEGIN:VEVENT
DTSTART;TZID=UTC:20230207T183000
DTEND;TZID=UTC:20230207T183000
DTSTAMP:20260419T173603
CREATED:20220617T122049Z
LAST-MODIFIED:20230118T111256Z
UID:10000545-1675794600-1675794600@www.kulturhauswalle.de
SUMMARY:Offener Doppelkopfabend
DESCRIPTION:Mit Schweinen\, Karlchen und ohne Neunen. \nImmer am ersten Dienstag im Monat findet im Brodelpottcafé ein offener Doppelkopfabend für alle Spielbegeisterten statt\, die die grundlegenden Regeln des Spiels kennen. \nMit Spaß beim Spielen und Geselligkeit wollen wir gemütliche Abende miteinander verbringen. Mit Getränkeverzehr.
URL:https://www.kulturhauswalle.de/event/offener-doppelkopfabend-6/
CATEGORIES:Treffs | Gruppen
ATTACH;FMTTYPE=image/jpeg:https://www.kulturhauswalle.de/wp-content/uploads/2021/09/playing-cards-262057_1920-e1683645052642.jpg
END:VEVENT
BEGIN:VEVENT
DTSTART;TZID=Europe/Berlin:20230210T170000
DTEND;TZID=Europe/Berlin:20230210T210000
DTSTAMP:20260419T173603
CREATED:20230130T093300Z
LAST-MODIFIED:20230130T093302Z
UID:10000804-1676048400-1676062800@www.kulturhauswalle.de
SUMMARY:Mosaikabende
DESCRIPTION:In diesen Kursen können Sie unscheinbare Gebrauchsgegenstände in farbenprächtige Schmuckstücke verwandeln. Mit Keramikfliesenbruch oder Glas lassen sich z.B. einfache Spiegel\, Blumentöpfe\, Untersetzer oder Tische ganz individuell gestalten. Auch Mosaikhausnummern oder Wandbilder können unter Anleitung hergestellt werden. Die Mosaiktechnik ist leicht erlernbar und macht von Anfang an viel Spaß. Anfänger bekommen eine Einführung in die Technik. Fortgeschrittene können ihre Kenntnisse vertiefen. \nBeitrag: 25 € + 5 € Material \nAnmeldungen unter i.raeder@kulturhauswalle.de oder Tel. 829 935
URL:https://www.kulturhauswalle.de/event/mosaikabende-5/
CATEGORIES:Kreativ,Mosaik-Workshops
ATTACH;FMTTYPE=image/jpeg:https://www.kulturhauswalle.de/wp-content/uploads/2022/07/Mosaik5-e1662467594721.jpg
END:VEVENT
BEGIN:VEVENT
DTSTART;TZID=Europe/Berlin:20230210T190000
DTEND;TZID=Europe/Berlin:20230210T190000
DTSTAMP:20260419T173603
CREATED:20221212T165450Z
LAST-MODIFIED:20230118T111312Z
UID:10000760-1676055600-1676055600@www.kulturhauswalle.de
SUMMARY:Queer Barnight
DESCRIPTION:Einmal im Monat findet der Barabend für LSBTQIA+ im Brodelpott statt. \nEine Gelegenheit für alle Queers sich im Bremer Westen zu treffen. Neben Getränken und Musik gibt es Raum um allerhand Programm mitzugestallten: Von Spieleabend oder Movie Night bis zu Karaoke oder gemeinsamen Ausprobieren eurer neuesten Fummel und Drag Outfits ist alles möglich. Kommt vorbei und bringt gern Ideen mit! \nEintritt frei
URL:https://www.kulturhauswalle.de/event/queer-barnight-2/
CATEGORIES:Treffs | Gruppen
ATTACH;FMTTYPE=image/png:https://www.kulturhauswalle.de/wp-content/uploads/2022/12/Queerbarnight-e1683643123722.png
END:VEVENT
BEGIN:VEVENT
DTSTART;TZID=UTC:20230212T120000
DTEND;TZID=UTC:20230212T160000
DTSTAMP:20260419T173603
CREATED:20220714T141649Z
LAST-MODIFIED:20230118T111329Z
UID:10000724-1676203200-1676217600@www.kulturhauswalle.de
SUMMARY:Mosaiktrittsteine für den Garten
DESCRIPTION:Die Teilnehmer:innen gestalten unter Anleitung mit Beton und Mosaiksteinen bunte frostfeste Trittsteine für das Gartenbeet. \nBeitrag pro Termin 25 € + ca. 12 – 20 € Material je nach VerbrauchAnmeldung: Tel. 0421 829935\, i.raeder@kulturhauswalle.de
URL:https://www.kulturhauswalle.de/event/mosaiktrittsteine-fuer-den-garten-9/
CATEGORIES:Kreativ,Mosaik-Workshops
ATTACH;FMTTYPE=image/jpeg:https://www.kulturhauswalle.de/wp-content/uploads/2022/07/Mosaik4-scaled-e1657887818457.jpg
END:VEVENT
BEGIN:VEVENT
DTSTART;TZID=Europe/Berlin:20230212T150000
DTEND;TZID=Europe/Berlin:20230212T150000
DTSTAMP:20260419T173603
CREATED:20230208T165050Z
LAST-MODIFIED:20230208T165052Z
UID:10000807-1676214000-1676214000@www.kulturhauswalle.de
SUMMARY:kunst.zeit.raum - Ausstellungseröffnung
DESCRIPTION:Künstlerische Projekte von Schüler:innen zu Gegenwartsthemen aus den Jahren 1985 – 2000 \nIm Februar 2001 veröffentlichte die Kooperative Gesamtschule Schwanewede anlässlich ihres 25 jährigen Jubiläums ein Posterbook\, das den Titel kunst.zeit.raum trägt. Es umfasst 24 Fotodrucke von Wandmalereien\, Objektplastiken und Außenrauminstallationen\, die Schüler*innen der Oberstufe im öffentlichen Raum der Schule realisiert hatten. \nDie ersten Werke entstanden vor 40 Jahren und existieren teilweise heute noch. \nDie Ausstellung zeigt 15 Gruppenarbeiten aus dem Kunstunterricht von Martin Zülch. \n\n\n\n\n\n\nZu sehen sind Ergebnisse in Form von Bildern\, die sich ab Mitte der 1980er Jahre mit gesellschaftlichenFehlentwicklungen befasst hatten: dem überbordenden Konsum- und Atommüll\, dem Automobilismus und Klimawandel\, der Gefährdung von Mensch und Natur. Die Retrospektive und drei Dokumentarfilme laden dazu ein\, sich ein Bild von der Aktualität der damals entstandenen Werke zu machen.
URL:https://www.kulturhauswalle.de/event/kunst-zeit-raum-ausstellungseroeffnung/
ATTACH;FMTTYPE=image/jpeg:https://www.kulturhauswalle.de/wp-content/uploads/2022/12/2.kunst_.zeit_.raum_.jpg
END:VEVENT
BEGIN:VEVENT
DTSTART;TZID=Europe/Berlin:20230212T150000
DTEND;TZID=Europe/Berlin:20230428T180000
DTSTAMP:20260419T173603
CREATED:20221215T140626Z
LAST-MODIFIED:20230208T165515Z
UID:10000783-1676214000-1682704800@www.kulturhauswalle.de
SUMMARY:kunst.zeit.raum
DESCRIPTION:Künstlerische Projekte von Schüler:innen zu Gegenwartsthemen aus den Jahren 1985 – 2000 \nIm Februar 2001 veröffentlichte die Kooperative Gesamtschule Schwanewede anlässlich ihres 25 jährigen Jubiläums ein Posterbook\, das den Titel kunst.zeit.raum trägt. Es umfasst 24 Fotodrucke von Wandmalereien\, Objektplastiken und Außenrauminstallationen\, die Schüler*innen der Oberstufe im öffentlichen Raum der Schule realisiert hatten. \nDie ersten Werke entstanden vor 40 Jahren und existieren teilweise heute noch. \nDie Ausstellung zeigt 15 Gruppenarbeiten aus dem Kunstunterricht von Martin Zülch. \n\n\n\n\n\n\nZu sehen sind Ergebnisse in Form von Bildern\, die sich ab Mitte der 1980er Jahre mit gesellschaftlichenFehlentwicklungen befasst hatten: dem überbordenden Konsum- und Atommüll\, dem Automobilismus und Klimawandel\, der Gefährdung von Mensch und Natur. Die Retrospektive und drei Dokumentarfilme laden dazu ein\, sich ein Bild von der Aktualität der damals entstandenen Werke zu machen. \nAusstellungseröffnung: 12.2. | 15.00
URL:https://www.kulturhauswalle.de/event/kunst-zeit-raum/
ATTACH;FMTTYPE=image/jpeg:https://www.kulturhauswalle.de/wp-content/uploads/2022/12/2.kunst_.zeit_.raum_.jpg
END:VEVENT
BEGIN:VEVENT
DTSTART;TZID=UTC:20230214T190000
DTEND;TZID=UTC:20230214T190000
DTSTAMP:20260419T173603
CREATED:20220704T132124Z
LAST-MODIFIED:20230118T111401Z
UID:10000678-1676401200-1676401200@www.kulturhauswalle.de
SUMMARY:Ukel-Session – präsentiert vom 1. Bremer Ukulelenorchester
DESCRIPTION:Herzlich willkommen zum monatlich stattfindenden Ukulelen-Stammtisch! \nWer Lust auf das gemeinsame Singen und Spielen von Oldies\, Folksongs oder Schlager hat oder wer ganz allgemein das eigene Ukulelenspiel verbessern möchte\, ist bei uns richtig. \nVorkenntnisse sind Nebensache. Auf Nachfrage stellen wir auch Leihukulelen zur Verfügung. \nEintritt frei\, Spenden willkommen
URL:https://www.kulturhauswalle.de/event/ukel-session-praesentiert-vom-1-bremer-ukulelenorchester-14/
CATEGORIES:Treffs | Gruppen
ATTACH;FMTTYPE=image/jpeg:https://www.kulturhauswalle.de/wp-content/uploads/2021/12/Ukel-Session_web-e1683642864762.jpg
END:VEVENT
BEGIN:VEVENT
DTSTART;TZID=Europe/Berlin:20230217T193000
DTEND;TZID=Europe/Berlin:20230217T193000
DTSTAMP:20260419T173603
CREATED:20221024T142837Z
LAST-MODIFIED:20230118T111429Z
UID:10000729-1676662200-1676662200@www.kulturhauswalle.de
SUMMARY:Esmahan Aykol: Istanbul Tango (Lesung und Gespräch)
DESCRIPTION:Literatür.Jetzt. Weibliche Stimmen aus dem deutsch-türkischen AlltagEine Lesereihe von Hafenmuseum\, Logbuch und Kulturhaus Walle BrodelpottAchtung: Die Lesung findet im Logbuch statt! \n\n\n\nFür unsere neue Lesereihe Literatür.Jetzt. laden wir sechs Autor*innen ein\, die die deutschsprachige Literaturszene um ihre familiär-biografischen Bezüge zur Türkei bereichern. Im Bremer Westen\, wo viele Menschen leben\, deren Großeltern oder Eltern dem Anwerbeabkommen vor 60 Jahren gefolgt sind\, können besondere Gespräche entstehen. Der literarische Blick richtet sich dabei auf Begegnungen zwischen den Kulturen\, den Geschlechtern und Generationen. \n\n\n\n\n\nFoto von Hueseyin Oezdemir\n\n\n\n\n\nSie tanzt Tango\, wohnt in einer schicken Wohnung mitten in Istanbul\, die Liebhaber kommen und gehen – doch seit kurzem schwebt die Modejournalistin Nil in Lebensgefahr. Um ihr zu helfen\, setzt die Buchhändlerin Kati Hirschel ihre Krimi-Kenntnisse ein und beginnt zu recherchieren. Kati Hirschel begleitet ihren liebeskranken Angestellten Fofo zu einer Wahrsagerin – und kriegt gleich selbst eine Weissagung: Eine Leiche tauche bald in ihrer nahen Umgebung auf … \nESMAHAN AYKOL\, 1970 in Edirne in der Türkei geboren\, lebt in Berlin und Istanbul. Während des Jurastudiums arbeitete sie als Journalistin für verschiedene türkische Zeitungen und Radiosender. Darauf folgte ein Intermezzo als Barkeeperin. Heute konzentriert sie sich aufs Schreiben. Sie ist Schöpferin der sympathischen Kati-Hirschel-Romane. \nEintritt 5/8 €Anmeldungen beim Logbuchladen \n\n\n\n\nNächste Lesungen der Reihe: \n17.03.2023 im Logbuch: Dilek Güngör \n14.04.2023 im Hafenmuseum: Anna Yeliz Schentke \n12.05.2023 im Kulturhaus Walle: Gün Tank \n\n\n\n\nDie Veranstaltungsreihe „Literatür Jetzt“ findet in Kooperation mit dem Bremer Literaturkontor\, dem Kulturforum Türkei und der Globale° statt. Gefördert wird die Reihe durch den Senator für Kultur\, die Sparkasse Bremen\, Neu Start Kultur und den Bundesverband Soziokultur. 
URL:https://www.kulturhauswalle.de/event/esmahan-aykol-istambul-tango/
LOCATION:Logbuch\, Vegesacker Str. 1\, Bremen\, 28217
CATEGORIES:Bühne | Events
ATTACH;FMTTYPE=image/png:https://www.kulturhauswalle.de/wp-content/uploads/2022/10/litaretuerjetzt.png
END:VEVENT
BEGIN:VEVENT
DTSTART;TZID=UTC:20230219T150000
DTEND;TZID=UTC:20230219T150000
DTSTAMP:20260419T173603
CREATED:20220705T101812Z
LAST-MODIFIED:20230208T111759Z
UID:10000681-1676818800-1676818800@www.kulturhauswalle.de
SUMMARY:Aus der Luft - Improvisationstheater für Kids ab 4     
DESCRIPTION:Alles hat seine Geschichte\, über alles kann eine Geschichte erzählt werden und genau das machen die beiden Schauspielerinnen Tinka Klindtwort und Ina Schenker. In Interaktion mit dem Publikum entstehen Szenen mit ängstlichen Gespenstern\, Piraten ohne Schiff oder einer Zauberfeder. Alles ist möglich\, denn die Kinder geben das Drehbuch vor und die beiden Geschichtenfinderinnen starten in Handumdrehen in ein neues Abenteuer. \n\n\n\n\nTinka Klindtwort und Ina Schenker spielen seit exakt 22 und 11 Jahren Improtheater. Kennen- und Mögengelernt haben sie sich in ihrer Impro WG von BIK City Impro\, dort spielen sie u.a. bei „Unsere Familie“ – ein Improtheaterformat zum tiefgreifendsten aller sozialen Netzwerke. Tinka Klindtwort ist außerdem Theaterpädagogin und Schauspieltrainerin. Ina Schenker ist im Kuratorenteam des Übersee-Museums und coacht Improgruppen. An Theater lieben sie die elektrisierende Energie zwischen Publikum und Bühne\, die Lebendigkeit und das verspielte Entdecken! Außerdem ist es wundervoll\, die Menschen zum Lachen oder auch zum Weinen zu bringen\, sich immer wieder neu ausprobieren und überraschen zu lassen. \nEintrittspreis: 3 € bis 5 € nach eigenem ErmessenCafé geöffnet ab 14.30 uhr \n\n\nReservieren\n\n\n\nOder unter tickets@kulturhauswalle.de | telefonisch 0421-396 2101Samstags und Sonntags sind wir erst zwei Stunden vor der Veranstaltung vor Ort und beantworten in der Regel keine E-Mails oder Anrufe mehr. Auch nicht Freitags ab 16 Uhr.
URL:https://www.kulturhauswalle.de/event/aus-der-luft-improvisiertes-theater-fuer-kinder/
CATEGORIES:Weitere Kinderangebote
ATTACH;FMTTYPE=image/jpeg:https://www.kulturhauswalle.de/wp-content/uploads/2022/07/Aus-der-Luft-scaled.jpg
END:VEVENT
BEGIN:VEVENT
DTSTART;TZID=UTC:20230221T160000
DTEND;TZID=UTC:20230221T180000
DTSTAMP:20260419T173603
CREATED:20220706T093538Z
LAST-MODIFIED:20230125T215318Z
UID:10000709-1676995200-1677002400@www.kulturhauswalle.de
SUMMARY:Die Sütterlinstunde – Hilfe bei der Transkription alter Dokumente
DESCRIPTION:Immer weniger Menschen können Sütterlin\, die Schreibschrift\, die unsere Großeltern und Urgroßeltern in der Schule lernten\, noch gut lesen. Viele alte Familienerinnerungen sind jedoch in dieser Schrift verfasst und für Ungeübte mittlerweile nur noch schwer zu entziffern. Hier wollen wir mit unserer neuen Reihe ansetzen. \nZweimal im Monat lädt das Geschichtskontor im Kulturhaus Walle zur offenen Sütterlinstunde ein und unterstützt Sie bei der Transkription Ihrer Dokumente in alten Handschriften. Kurze Texte wie Bildunterschriften\, Postkarten und Urkunden\, die in Sütterlin oder in deutscher Schreibschrift geschrieben sind\, können Sie sich in der Sütterlinstunde auch direkt vor Ort übersetzen lassen. \nEintritt frei. Anmeldung erforderlich \n\n\nAnmelden\n\n\n\nOder unter a.piplak@kulturhauswalle.de | telefonisch 0421 3887074
URL:https://www.kulturhauswalle.de/event/die-suetterlinstunde-hilfe-bei-der-transkription-alter-dokumente-27/
CATEGORIES:Geschichte
ATTACH;FMTTYPE=image/jpeg:https://www.kulturhauswalle.de/wp-content/uploads/2021/12/Suetterlin_web.jpg
END:VEVENT
BEGIN:VEVENT
DTSTART;TZID=UTC:20230221T181500
DTEND;TZID=UTC:20230221T181500
DTSTAMP:20260419T173603
CREATED:20220603T082912Z
LAST-MODIFIED:20230118T111620Z
UID:10000670-1677003300-1677003300@www.kulturhauswalle.de
SUMMARY:Dat Klöönwark – Der offene Plattstammtisch
DESCRIPTION:Regelmäßig trifft sich im Brodelpott eine vom Aussterben bedrohte Art – die sogenannten Plattsnacker! Platt-Muttersprachler*innen sind mittlerweile spärlich gesät\, aber beim Klöönwark triffst du sie noch – sowohl „native speaker“ als auch Leute\, die einfach nur Lust auf Plattdeutsch haben. In dieser Runde ist es egal\, ob man bereits drei Volkshochschulkurse hinter sich hat\, als lütte Deern oder Jung mit Oma Erna ‚af un an mal snackt hett‘ oder überhaupt kein Platt kann. Das Einzige\, was zählt\, ist Neugier und Lust auf die plattdeutsche Sprache! Bloots nich bang ween! Kiek mol rin\, wi freit us op di! \nEintritt frei
URL:https://www.kulturhauswalle.de/event/dat-kloeoenwark-der-offene-plattstammtisch-29/
CATEGORIES:Treffs | Gruppen
ATTACH;FMTTYPE=image/jpeg:https://www.kulturhauswalle.de/wp-content/uploads/2022/05/12_kloeoenwark.jpg
END:VEVENT
BEGIN:VEVENT
DTSTART;TZID=UTC:20230222T193000
DTEND;TZID=UTC:20230222T220000
DTSTAMP:20260419T173603
CREATED:20220704T130421Z
LAST-MODIFIED:20230118T111746Z
UID:10000550-1677094200-1677103200@www.kulturhauswalle.de
SUMMARY:Offene Bühne des 1. Bremer Ukulelenorchesters
DESCRIPTION:Die Offene Bühne hat sich zum ultimativen Renner im Brodelpott entwickelt! Hier wird längst verschütteten Songperlen zu neuem Glanz verholfen\, Gewagtes ganz neu interpretiert und das Publikum bestens unterhalten. \nKontakt für Bühnenauftritt: DietlindW@web.de
URL:https://www.kulturhauswalle.de/event/offene-buehne-des-1-bremer-ukulelenorchesters-4/
CATEGORIES:Bühne | Events
ATTACH;FMTTYPE=image/jpeg:https://www.kulturhauswalle.de/wp-content/uploads/2022/04/ukeln-im-brodelpott.jpg
END:VEVENT
BEGIN:VEVENT
DTSTART;TZID=Europe/Berlin:20230224T170000
DTEND;TZID=Europe/Berlin:20230224T210000
DTSTAMP:20260419T173603
CREATED:20230130T093605Z
LAST-MODIFIED:20230130T093606Z
UID:10000805-1677258000-1677272400@www.kulturhauswalle.de
SUMMARY:Mosaikabende
DESCRIPTION:In diesen Kursen können Sie unscheinbare Gebrauchsgegenstände in farbenprächtige Schmuckstücke verwandeln. Mit Keramikfliesenbruch oder Glas lassen sich z.B. einfache Spiegel\, Blumentöpfe\, Untersetzer oder Tische ganz individuell gestalten. Auch Mosaikhausnummern oder Wandbilder können unter Anleitung hergestellt werden. Die Mosaiktechnik ist leicht erlernbar und macht von Anfang an viel Spaß. Anfänger bekommen eine Einführung in die Technik. Fortgeschrittene können ihre Kenntnisse vertiefen. \nBeitrag: 25 € + 5 € Material \nAnmeldungen unter i.raeder@kulturhauswalle.de oder Tel. 829 935
URL:https://www.kulturhauswalle.de/event/mosaikabende-6/
CATEGORIES:Kreativ,Mosaik-Workshops
ATTACH;FMTTYPE=image/jpeg:https://www.kulturhauswalle.de/wp-content/uploads/2022/03/Mosaik-scaled-e1646667797341.jpg
END:VEVENT
BEGIN:VEVENT
DTSTART;TZID=UTC:20230224T193000
DTEND;TZID=UTC:20230224T193000
DTSTAMP:20260419T173603
CREATED:20220530T114633Z
LAST-MODIFIED:20230118T111830Z
UID:10000659-1677267000-1677267000@www.kulturhauswalle.de
SUMMARY:Friendly Friday mit Raw und Daniel Schmidt
DESCRIPTION:Suppe\, Musik und Literatur\n\n\n\n\n\n\n\n\n\n\n\nRAW ist ein Bremer Duo bestehend aus Meike Schaub und Susanna Janke. Diese zwei Musikerinnen\, die schon längst ein fester Bestandteil der Bremer Musikszene sind\, erzeugen mit Gitarre\, Bass und zweistimmigem Gesang eine intensive und einzigartige Atmosphäre\, die uns das ganz Wochenende begleiten wird. Eine Hörprobe findet ihr hier. \n\n\n\n\n\n\n\nDANIEL SCHMIDT\, geboren 1997 in der Pfalz\, studierte Germanistik und Religionswissenschaften an der Universität Bremen und den USA. Er übt verschiedene Tätigkeiten im kulturellen Bereich aus\, aktuell als Festivalassistenz beim globale° – Festival für grenzüberschreitende Literatur. Nebenbei veröffentlicht er seine Texte in Anthologien. Seine Kurzgeschichte „Verschüttete Milch“ ist im MiniLit-Heft Nr. 13 des Bremer Literaturkontors erschienen. \n\n\n\n\n\nFoto von  Marc Stavros\n\n\n\n\nDer Erlös aus dem Suppenverkauf sowie der Eintritt kommen komplett den Künstler:innen zu Gute.Beim Eintritt gilt daher das Motto: pay as much as you can. \n\n\nReservieren\n\n\n\nOder unter tickets@kulturhauswalle.de | telefonisch 0421-396 2101Samstags und Sonntags sind wir erst zwei Stunden vor der Veranstaltung vor Ort und beantworten in der Regel keine E-Mails oder Anrufe mehr. Auch nicht Freitags ab 16 Uhr.
URL:https://www.kulturhauswalle.de/event/friendly-friday-5/
CATEGORIES:Bühne | Events
ATTACH;FMTTYPE=image/jpeg:https://www.kulturhauswalle.de/wp-content/uploads/2022/05/FF-22-2.jpg
END:VEVENT
BEGIN:VEVENT
DTSTART;TZID=UTC:20230226T110000
DTEND;TZID=UTC:20230226T150000
DTSTAMP:20260419T173603
CREATED:20220705T122153Z
LAST-MODIFIED:20230208T104954Z
UID:10000683-1677409200-1677423600@www.kulturhauswalle.de
SUMMARY:Kleidertauschcafé
DESCRIPTION:Der Kleiderschrank ist voll\, aber irgendwie hat man doch nichts anzuziehen. Beim Kleidertauschcafé im Brodelpott könnt Ihr Euch von „Kleiderschrankleichen“ oder Fehlkäufen trennen und im Tausch andere Klamotten mitnehmen. \nSo funktioniert’s: Pro Person werden ein paar Stücke gut erhaltener Kleidung mitgebracht. Vor Ort sortierst Du deine Sachen gemäß unseren Schildern. Anschließend darfst Du gerne stöbern und mitnehmen\, was Dir gefällt. Was übrig bleibt\, wird von uns an soziale Einrichtungen weiter gegeben. Ein paar Leckereien zur Stärkung werden wir auch vorbereiten. \nEintrittspreis: frei\, Spenden willkommen.
URL:https://www.kulturhauswalle.de/event/kleidertauschcafe-4/
CATEGORIES:Bühne | Events
ATTACH;FMTTYPE=image/jpeg:https://www.kulturhauswalle.de/wp-content/uploads/2020/04/Kulturhauswalle_dresses-53319__340.jpg
END:VEVENT
BEGIN:VEVENT
DTSTART;TZID=Europe/Berlin:20230228T193000
DTEND;TZID=Europe/Berlin:20230228T210000
DTSTAMP:20260419T173603
CREATED:20230208T162800Z
LAST-MODIFIED:20230224T121637Z
UID:10000806-1677612600-1677618000@www.kulturhauswalle.de
SUMMARY:EXTERNE VERANSTALTUNG: Feministischer Streik
DESCRIPTION:Wir kämpfen am 8. März\, dem feministischen Kampftag\, für ein besseres Leben für uns alle. \nEine Woche vor dem 8. März laden wir euch ein\, mit uns einen feministischen und antikapitalistischen Blick auf die aktuellen kapitalistischen Krisen zu werfen und anhand des Schwerpunktes Wohnen zu diskutieren: \nwie sind FLINTA* von den inflationsbedingten Preissteigerungen\, von Wohnungslosigkeit\, von Armut und sozialer Ungerechtigkeit (besonders) betroffen und inwieweit steckt das im kapitalistischen System und seiner vergeschlechtlichen Verteilung der Zuständigkeiten für Produktions- und Reproduktionsarbeit selbst? Welche Analysen von und des Proteste gegen diese Verhältnisse gibt es? Wie begegnen Initiativen und Organisationen vor Ort den Umständen solidarisch? Wie könnte all das anders laufen? \nEs diskutieren unter anderem:Feminismus AG von Deutsche Wohnen & Co EnteignenLieLa e.V. (Verein für Schutzräume für wohnungslose FLINTA* in Bremen)Bremer Bündnis Zwangsräumungen VerhindernFeministischer Streik Bremenmit einem Videobeitrag von Prof. Dr. Adelheid Biesecker
URL:https://www.kulturhauswalle.de/event/feministischer-streik-bremen-zu-gast-podiumsgespraech/
CATEGORIES:Bühne | Events
ATTACH;FMTTYPE=image/jpeg:https://www.kulturhauswalle.de/wp-content/uploads/2023/02/Fem.Str_.Podiumsdiskussion.jpg
END:VEVENT
END:VCALENDAR