BEGIN:VCALENDAR
VERSION:2.0
PRODID:-//Kulturhaus Walle Brodelpott - ECPv6.15.20//NONSGML v1.0//EN
CALSCALE:GREGORIAN
METHOD:PUBLISH
X-WR-CALNAME:Kulturhaus Walle Brodelpott
X-ORIGINAL-URL:https://www.kulturhauswalle.de
X-WR-CALDESC:Veranstaltungen für Kulturhaus Walle Brodelpott
REFRESH-INTERVAL;VALUE=DURATION:PT1H
X-Robots-Tag:noindex
X-PUBLISHED-TTL:PT1H
BEGIN:VTIMEZONE
TZID:Europe/Berlin
BEGIN:DAYLIGHT
TZOFFSETFROM:+0100
TZOFFSETTO:+0200
TZNAME:CEST
DTSTART:20210328T010000
END:DAYLIGHT
BEGIN:STANDARD
TZOFFSETFROM:+0200
TZOFFSETTO:+0100
TZNAME:CET
DTSTART:20211031T010000
END:STANDARD
BEGIN:DAYLIGHT
TZOFFSETFROM:+0100
TZOFFSETTO:+0200
TZNAME:CEST
DTSTART:20220327T010000
END:DAYLIGHT
BEGIN:STANDARD
TZOFFSETFROM:+0200
TZOFFSETTO:+0100
TZNAME:CET
DTSTART:20221030T010000
END:STANDARD
BEGIN:DAYLIGHT
TZOFFSETFROM:+0100
TZOFFSETTO:+0200
TZNAME:CEST
DTSTART:20230326T010000
END:DAYLIGHT
BEGIN:STANDARD
TZOFFSETFROM:+0200
TZOFFSETTO:+0100
TZNAME:CET
DTSTART:20231029T010000
END:STANDARD
BEGIN:DAYLIGHT
TZOFFSETFROM:+0100
TZOFFSETTO:+0200
TZNAME:CEST
DTSTART:20240331T010000
END:DAYLIGHT
BEGIN:STANDARD
TZOFFSETFROM:+0200
TZOFFSETTO:+0100
TZNAME:CET
DTSTART:20241027T010000
END:STANDARD
END:VTIMEZONE
BEGIN:VEVENT
DTSTART;TZID=Europe/Berlin:20230414T193000
DTEND;TZID=Europe/Berlin:20230414T193000
DTSTAMP:20260419T233720
CREATED:20221024T151505Z
LAST-MODIFIED:20230118T115957Z
UID:10000601-1681500600-1681500600@www.kulturhauswalle.de
SUMMARY:Anna Yeliz Schentke: Kangal (Lesung und Gespräch)
DESCRIPTION:Literatür.Jetzt. Weibliche Stimmen aus dem deutsch-türkischen AlltagEine Lesereihe von Hafenmuseum\, Logbuch und Kulturhaus Walle BrodelpottAchtung: Die Lesung findet im Hafenmuseum statt! \n\n\n\nFür unsere neue Lesereihe Literatür.Jetzt. laden wir sechs Autor*innen ein\, die die deutschsprachige Literaturszene um ihre familiär-biografischen Bezüge zur Türkei bereichern. Im Bremer Westen\, wo viele Menschen leben\, deren Großeltern oder Eltern dem Anwerbeabkommen vor 60 Jahren gefolgt sind\, können besondere Gespräche entstehen. Der literarische Blick richtet sich dabei auf Begegnungen zwischen den Kulturen\, den Geschlechtern und Generationen. \n\n\n\n\n\nFoto von Robert Schittko\n\n\n\n\n\nANNA YELIZ SCHENTKE ist 1990 in Frankfurt geboren\, aufgewachsen und lebt auch heute dort. Das letzte Mal in Istanbul war sie Ende 2015. Im Frühjahr 2020 nahm sie an der Schreibwerkstatt der Jürgen Ponto-Stiftung teil und stand im Herbst 2020 auf der Shortlist des Wortmeldungen-Förderpreises. »Kangal« ist ihr Debütroman. \n\n\n\n\nDilek und Tekin sind ein junges Paar in Istanbul. Nicht erst seit dem Juli 2016 hat sich auch für sie die Stadt verändert. Als Dilek Jahre später in ein Flugzeug steigt\, weiß ihr Freund nichts davon\, niemand soll wissen\, dass sie\, die online »Kangal« heißt\, bald in Frankfurt landet. Ayla ist überrascht\, als ihre Cousine Dilek sich bei ihr meldet\, die gemeinsamen Sommer sind lange her. Und während sich Tekin in Istanbul auf die Suche macht\, fragt sich Ayla: Wer ist Dilek heute? »Kangal« ist ein atemloser Roman über aktuelle Unterdrückung und über eine Generation\, die auf der Suche ist: nach einer gemeinsamen Sprache\, nach Sicherheit und Zugehörigkeit. \nEintritt: 5/8 € \nAnmeldungen beim Hafenmuseum. \nNächste Lesung der Reihe: \n12.05.2023 im Kulturhaus Walle: Gün Tank \n\n\n\n\nDie Veranstaltungsreihe „Literatür Jetzt“ findet in Kooperation mit dem Bremer Literaturkontor\, dem Kulturforum Türkei und der Globale° statt. Gefördert wird die Reihe durch den Senator für Kultur\, die Sparkasse Bremen\, Neu Start Kultur und den Bundesverband Soziokultur. 
URL:https://www.kulturhauswalle.de/event/anna-yeliz-schentke-kangal-lesung-und-gespraech/
LOCATION:Hafenmuseum Bremen\, Am Speicher XI 1\, Bremen\, 28217
CATEGORIES:Bühne | Events
ATTACH;FMTTYPE=image/png:https://www.kulturhauswalle.de/wp-content/uploads/2022/10/litaretuerjetzt.png
END:VEVENT
BEGIN:VEVENT
DTSTART;TZID=Europe/Berlin:20221202T193000
DTEND;TZID=Europe/Berlin:20221202T193000
DTSTAMP:20260419T233720
CREATED:20221024T113858Z
LAST-MODIFIED:20221104T162102Z
UID:10000727-1670009400-1670009400@www.kulturhauswalle.de
SUMMARY:Hatice Akyün: Einmal Hans mit scharfer Soße (Lesung und Gespräch)
DESCRIPTION:Literatür.Jetzt. Weibliche Stimmen aus dem deutsch-türkischen AlltagEine Lesereihe von Hafenmuseum\, Logbuch und Kulturhaus Walle BrodelpottAchtung: Die Lesung findet im Hafenmuseum statt! \n\n\n\nFür unsere neue Lesereihe Literatür.Jetzt. laden wir sechs Autor*innen ein\, die die deutschsprachige Literaturszene um ihre familiär-biografischen Bezüge zur Türkei bereichern. Im Bremer Westen\, wo viele Menschen leben\, deren Großeltern oder Eltern dem Anwerbeabkommen vor 60 Jahren gefolgt sind\, können besondere Gespräche entstehen. Der literarische Blick richtet sich dabei auf Begegnungen zwischen den Kulturen\, den Geschlechtern und Generationen. \n\n\n\n\n\nFoto von Nils Starnick\n\n\n\n\n\nEin lebhafter\, authentischer\, herrlich aufgekratzter Roman aus der Zwischenwelt einer selbstverständlich emanzipierten\, aber immer noch in ihrer Herkunftskultur verwurzelten Deutschtürkin: Die in Duisburg aufgewachsene\, in Berlin arbeitende Journalistin Hatice Akyün schildert\, wie sie auf der Suche nach einem deutschen Mann ständig enttäuscht wird\, weil er ihr die Autotür nicht aufhält und im Restaurant die Rechnung teilen will. Sie sucht den fortschrittlichen Mann\, der ihr witzige Komplimente macht und sie auf Händen trägt\, sie sucht: »Einmal Hans mit scharfer Soße«. \n \n\n\n\n\nHATICE AKYÜN wird 1969 in Akpinar in Anatolien geboren. 1972 zieht sie mit ihrer Familie nach Deutschland\, wo sie seither lebt. Als Journalistin beginnt sie bei der WAZ\, seit 2003 schreibt sie als freie Journalistin unter anderem für Spiegel\, Emma\, taz und den Tages­spiegel. Dort erscheint seit 2011 auch ihre wöchentliche Kolumne »Meine Heimat«. 2005 veröffentlicht Hatice Akyün ihr Buch »Einmal Hans mit scharfer Soße«\, 2012 wird der Bestseller verfilmt. 2008 erscheint ihr zweites Buch „Ali zum Dessert“\, weitere folgten und aktuell schreibt sie an einem neuen Roman. \nEintritt 5/8 € \n\n\nNächste Lesungen der Reihe: \n\n\n\n13.01.2023 im Kulturhaus Walle: Leyla Bektaş \n\n\n\n17.02.2023 im Logbuch: Esmahan Aykol \n\n\n\n17.03.2023 im Logbuch: Dilek Güngör \n\n\n\n14.04.2023 im Hafenmuseum: Anna Yeliz Schentke \n\n\n\n12.05.2023 im Kulturhaus Walle: Gün Tank \n\n\n\n\n\nDie Veranstaltungsreihe „Literatür Jetzt“ findet in Kooperation mit dem Bremer Literaturkontor\, dem Kulturforum Türkei und der Globale° statt. Gefördert wird die Reihe durch den Senator für Kultur\, die Sparkasse Bremen\, Neu Start Kultur und den Bundesverband Soziokultur. 
URL:https://www.kulturhauswalle.de/event/hatice-akyuen-liest-aus-einmal-hans-mit-scharfer-sosse/
LOCATION:Hafenmuseum Bremen\, Am Speicher XI 1\, Bremen\, 28217
CATEGORIES:Bühne | Events
ATTACH;FMTTYPE=image/png:https://www.kulturhauswalle.de/wp-content/uploads/2022/10/litaretuerjetzt.png
END:VEVENT
END:VCALENDAR