BEGIN:VCALENDAR
VERSION:2.0
PRODID:-//Kulturhaus Walle Brodelpott - ECPv6.15.20//NONSGML v1.0//EN
CALSCALE:GREGORIAN
METHOD:PUBLISH
X-ORIGINAL-URL:https://www.kulturhauswalle.de
X-WR-CALDESC:Veranstaltungen für Kulturhaus Walle Brodelpott
REFRESH-INTERVAL;VALUE=DURATION:PT1H
X-Robots-Tag:noindex
X-PUBLISHED-TTL:PT1H
BEGIN:VTIMEZONE
TZID:UTC
BEGIN:STANDARD
TZOFFSETFROM:+0000
TZOFFSETTO:+0000
TZNAME:UTC
DTSTART:20200101T000000
END:STANDARD
END:VTIMEZONE
BEGIN:VEVENT
DTSTART;TZID=UTC:20220426T190000
DTEND;TZID=UTC:20220426T190000
DTSTAMP:20260422T003021
CREATED:20220301T132725Z
LAST-MODIFIED:20220426T124519Z
UID:10000631-1650999600-1650999600@www.kulturhauswalle.de
SUMMARY:Ukel-Session – präsentiert vom 1. Bremer Ukulelenorchester
DESCRIPTION:Beim offenen Ukulelen-Stammtisch des 1. Bremer Ukulelenorchesters\, an dem sich Ukulelisten und Ukulistinnen aus Bremen und Umzu treffen\, werden Songs von Pop über Folk und Country bis zum Blues gespielt. Neueinsteiger\, Beginner und Reinschnupperer sind immer herzlich willkommen. \nEintritt frei\, Spenden willkommen \nAnmeldung erforderlich: erhard.heintze@web.de oder 0421/837145.
URL:https://www.kulturhauswalle.de/event/ukel-session-praesentiert-vom-1-bremer-ukulelenorchester-5/
LOCATION:Kulturhaus Walle
CATEGORIES:Bühne | Events
ATTACH;FMTTYPE=image/jpeg:https://www.kulturhauswalle.de/wp-content/uploads/2021/12/Ukel-Session_web-e1683642864762.jpg
END:VEVENT
BEGIN:VEVENT
DTSTART;TZID=UTC:20220424T140000
DTEND;TZID=UTC:20220525T180000
DTSTAMP:20260422T003021
CREATED:20220309T134333Z
LAST-MODIFIED:20220426T124527Z
UID:10000643-1650808800-1653501600@www.kulturhauswalle.de
SUMMARY:Geschichte der Bremer Kaisenhäuser
DESCRIPTION:Fotos und Informationen zur Entstehung\, Entwicklung und\nBedeutung der Geschichte der Bremer Kaisenhäuser. \nEröffnung: 24.4. | 16:30 Uhr\nAusstellung: 24.4–25.5. | Mo.–Fr. 14:00–18:00 Uhr
URL:https://www.kulturhauswalle.de/event/geschichte-der-bremer-kaisenhaeuser/
LOCATION:Kulturhaus Walle
ATTACH;FMTTYPE=image/jpeg:https://www.kulturhauswalle.de/wp-content/uploads/2022/03/Aussstellung-Kaisenhausmuseum-scaled.jpg
END:VEVENT
BEGIN:VEVENT
DTSTART;TZID=UTC:20220419T150000
DTEND;TZID=UTC:20220419T170000
DTSTAMP:20260422T003021
CREATED:20220301T130909Z
LAST-MODIFIED:20220602T114543Z
UID:10000624-1650380400-1650387600@www.kulturhauswalle.de
SUMMARY:Die Sütterlinstunde – Hilfe bei der Transkription alter Dokumente
DESCRIPTION:Immer weniger Menschen könnnen Sütterlin\, die Schreibschrift\, die unsere Großeltern und Urgroßeltern in der Schule lernten\, noch gut lesen. Viele alte Familienerinnerungen sind jedoch in dieser Schrift verfasst und für Ungeübte mittlerweile nur noch schwer zu entziffern. Hier wollen wir mit unserer neuen Reihe ansetzen. \nZweimal im Monat lädt das Geschichtskontor im Kulturhaus Walle unter Leitung von Dr. Andree Brumshagen zur offenen Sütterlinstunde ein und unterstützt Sie bei der Transkription Ihrer Dokumente in alten Handschriften. Kurze Texte wie Bildunterschriften\, Postkarten und Urkunden\, die in Sütterlin oder in deutscher Schreibschrift geschrieben sind\, können Sie sich in der Sütterlinstunde auch direkt vor Ort übersetzen lassen. \nEintritt frei! \nAnmeldung unter: \nTelefon: 3887074\, E-mail: a.piplak@kulturhauswalle.de
URL:https://www.kulturhauswalle.de/event/die-suetterlinstunde-hilfe-bei-der-transkription-alter-dokumente-11/
LOCATION:Kulturhaus Walle
CATEGORIES:Geschichte,Treffs | Gruppen
ATTACH;FMTTYPE=image/jpeg:https://www.kulturhauswalle.de/wp-content/uploads/2021/12/Suetterlin_web.jpg
END:VEVENT
BEGIN:VEVENT
DTSTART;TZID=UTC:20220412T181500
DTEND;TZID=UTC:20220412T181500
DTSTAMP:20260422T003021
CREATED:20220228T123413Z
LAST-MODIFIED:20220602T114820Z
UID:10000623-1649787300-1649787300@www.kulturhauswalle.de
SUMMARY:Dat Klöönwark - Platt schnacken für alle
DESCRIPTION:Regelmäßig trifft sich im Brodelpott eine vom Aussterben bedrohte Art – die sogenannten Plattsnacker! Platt-Muttersprachler*innen sind mittlerweile spärlich gesät\, aber beim Klöönwark triffst du sie noch – sowohl „native speaker“ als auch Leute\, die einfach nur Lust auf Plattdeutsch haben. In dieser Runde ist es egal\, ob man bereits drei Volkshochschulkurse hinter sich hat\, als lütte Deern oder Jung mit Oma Erna ‚af un an mal snackt hett‘ oder überhaupt kein Platt kann. Das Einzige was zählt\, ist Neugier und Lust auf die plattdeutsche Sprache! Bloots nich bang ween! Kiek mol rin\, wi freit us op di! \nEintritt frei \n 
URL:https://www.kulturhauswalle.de/event/dat-kloeoenwark-platt-schnacken-fuer-alle-2/
LOCATION:Kulturhaus Walle
CATEGORIES:Treffs | Gruppen
ATTACH;FMTTYPE=image/jpeg:https://www.kulturhauswalle.de/wp-content/uploads/2021/08/kulturhauswalle_bibliothek_dat-kloeoenwark-platt-snacken-fuer-alle.jpg
END:VEVENT
BEGIN:VEVENT
DTSTART;TZID=UTC:20220327T120000
DTEND;TZID=UTC:20220327T160000
DTSTAMP:20260422T003021
CREATED:20220307T142907Z
LAST-MODIFIED:20220308T125450Z
UID:10000640-1648382400-1648396800@www.kulturhauswalle.de
SUMMARY:Kurs: Mosaiktrittsteine für den Garten
DESCRIPTION:Mit Keramikfliesenbruch\, Steinen oder Glas werden farbenprächtige Mosaik-objekte wie z.B. Spiegel\,Tische\, Blumentöpfe\, Hausnummern\, Stelen oder Vo-geltränken für den Garten gestaltet. Mit Einführung in die Mosaiktechnik. \nGebühr 25 € + ca. 12 bis 20€ für das Material\nAnmeldung unter 829935 oder i.raeder@kulturhauswalle.de
URL:https://www.kulturhauswalle.de/event/kurs-mosaiktrittsteine-fuer-den-garten/
LOCATION:Kulturhaus Walle
ATTACH;FMTTYPE=image/jpeg:https://www.kulturhauswalle.de/wp-content/uploads/2022/03/Mosaik-scaled-e1646667797341.jpg
END:VEVENT
BEGIN:VEVENT
DTSTART;TZID=UTC:20220326T170000
DTEND;TZID=UTC:20220326T170000
DTSTAMP:20260422T003021
CREATED:20220228T120057Z
LAST-MODIFIED:20220228T121108Z
UID:10000621-1648314000-1648314000@www.kulturhauswalle.de
SUMMARY:Vom Osterfeuerberg ins Heimatviertel
DESCRIPTION:Wo stand eigentlich der Osterfeuerberg und warum ist es da nicht bergig? Welches sind die ältesten Kneipen im Viertel und warum wurde im 19. Jhd. ausgerechnet in Walle eine katholische Kirche gebaut? Und wo befand sich eigentlich das Kaufhaus des Westens und das Decla Kino? Diese und andere Fragen sollen auf diesem Rundgang in die vielen fast vergessenen Winkel zwischen Osterfeuerberg und Heimatviertel geklärt werden. \nRundgang zum Tag der offenen Tür | Treffpunkt: Kulturhaus Walle Brodelpott | Beitrag 5 €\, erm. 4 € \nMit Christine Glenewinkel \nAnmeldung:\nAngela Piplak | Tel 3887074 | a.piplak@kulturhauswalle.de
URL:https://www.kulturhauswalle.de/event/vom-osterfeuerberg-ins-heimatviertel/
LOCATION:Kulturhaus Walle
CATEGORIES:Geschichte
ATTACH;FMTTYPE=image/jpeg:https://www.kulturhauswalle.de/wp-content/uploads/2020/04/Kulturhauswalle_Vollmer_Druide_549b-scaled.jpg
END:VEVENT
BEGIN:VEVENT
DTSTART;TZID=UTC:20220326T110000
DTEND;TZID=UTC:20220326T180000
DTSTAMP:20260422T003021
CREATED:20220221T122200Z
LAST-MODIFIED:20220322T121243Z
UID:10000620-1648292400-1648317600@www.kulturhauswalle.de
SUMMARY:40 Jahre »Brodelpott« – Von der Initiative zum Kulturhaus!
DESCRIPTION:Das Jahr 2022 ist für unser Haus etwas ganz Besonderes: Vor genau 40 Jahren – im März 1982 – wurde die »Kulturinitiative Brodelpott e.V.« an der Elisabethstraße 134 in einem kleinen ehemaligen Ladengeschäft eröffnet! \nUnseren 40. Geburtstag wollen wir mit einer Feierstunde und einem Tag der offenen Tür begehen und die vielschichtige Arbeit unseres Geschichtskontors\, der Werkstätten\, des Ausstellungsbereiches und der Bibliothek präsentieren. Das Bibcafé ist ebenfalls geöffnet. \nVeranstaltungsprogramm: \n\n11:00 Kinder-Theater „Die Geschichtenfinderinnen“ – Improvisationstheater für Kinder ab 4 Jahren. Alles hat seine Geschichte\, über alles kann eine Geschichte erzählt werden und genau das machen die! Mit Ina Schenker & Tinka Klindtwort vom Improtheater Bremen\nAb 12:00 open end – offene Tür im Kulturhaus mit Café\, Bibliotheksflohmarkt und Bremensien-Flohmarkt mit antiquarischen Raritäten (das Geschichtskontor ist geöffnet)\n14:00 Workshop: Mosaiktrittsteine für den Garten\n16:00 »Anbiet« mit Hafenmelodien und Schlagern aus den 50er und 60er Jahren\n17:00 Vom Osterfeuerbergviertel ins Heimatviertel – historischer Rundgang mit Christine Glenewinkel\n\n***Es gilt die 3G-Regelung. Innerhalb des Hauses empfehlen wir das Tragen einer FFP2-Maske
URL:https://www.kulturhauswalle.de/event/40-jahre-brodelpott-von-der-initiative-zum-kulturhaus/
LOCATION:Kulturhaus Walle
ATTACH;FMTTYPE=image/jpeg:https://www.kulturhauswalle.de/wp-content/uploads/2022/02/gruendungbrodelpott_web.jpg
END:VEVENT
BEGIN:VEVENT
DTSTART;TZID=UTC:20220322T190000
DTEND;TZID=UTC:20220322T190000
DTSTAMP:20260422T003021
CREATED:20220221T114741Z
LAST-MODIFIED:20220221T114846Z
UID:10000619-1647975600-1647975600@www.kulturhauswalle.de
SUMMARY:Ukel-Session – präsentiert vom 1. Bremer Ukulelenorchester
DESCRIPTION:Beim offenen Ukulelen-Stammtisch des 1. Bremer Ukulelenorchesters\, an dem sich Ukulelisten und Ukulistinnen aus Bremen und Umzu treffen\, werden Songs von Pop über Folk und Country bis zum Blues gespielt. Neueinsteiger\, Beginner und Reinschnupperer sind immer herzlich willkommen. \nEintritt frei\, Spenden willkommen
URL:https://www.kulturhauswalle.de/event/ukel-session-praesentiert-vom-1-bremer-ukulelenorchester-4/
LOCATION:Kulturhaus Walle
ATTACH;FMTTYPE=image/jpeg:https://www.kulturhauswalle.de/wp-content/uploads/2021/12/ukulele-Bild_web.jpg
END:VEVENT
BEGIN:VEVENT
DTSTART;TZID=UTC:20220322T150000
DTEND;TZID=UTC:20220322T170000
DTSTAMP:20260422T003021
CREATED:20220221T114356Z
LAST-MODIFIED:20220602T114551Z
UID:10000618-1647961200-1647968400@www.kulturhauswalle.de
SUMMARY:Die Sütterlinstunde – Hilfe bei der Transkription alter Dokumente
DESCRIPTION:Immer weniger Menschen könnnen Sütterlin\, die Schreibschrift\, die unsere Großeltern und Urgroßeltern in der Schule lernten\, noch gut lesen. Viele alte Familienerinnerungen sind jedoch in dieser Schrift verfasst und für Ungeübte mittlerweile nur noch schwer zu entziffern. Hier wollen wir mit unserer neuen Reihe ansetzen. \nZweimal im Monat lädt das Geschichtskontor im Kulturhaus Walle unter Leitung von Dr. Andree Brumshagen zur offenen Sütterlinstunde ein und unterstützt Sie bei der Transkription Ihrer Dokumente in alten Handschriften. Kurze Texte wie Bildunterschriften\, Postkarten und Urkunden\, die in Sütterlin oder in deutscher Schreibschrift geschrieben sind\, können Sie sich in der Sütterlinstunde auch direkt vor Ort übersetzen lassen. \nEintritt frei! \nAnmeldung unter: \nTelefon: 3887074\, E-mail: a.piplak@kulturhauswalle.de
URL:https://www.kulturhauswalle.de/event/die-suetterlinstunde-hilfe-bei-der-transkription-alter-dokumente-9/
LOCATION:Kulturhaus Walle
CATEGORIES:Geschichte,Treffs | Gruppen
ATTACH;FMTTYPE=image/jpeg:https://www.kulturhauswalle.de/wp-content/uploads/2021/12/Suetterlin_web.jpg
END:VEVENT
BEGIN:VEVENT
DTSTART;TZID=UTC:20220308T183000
DTEND;TZID=UTC:20220308T200000
DTSTAMP:20260422T003021
CREATED:20220214T111815Z
LAST-MODIFIED:20220304T122108Z
UID:10000617-1646764200-1646769600@www.kulturhauswalle.de
SUMMARY:Geschichtstreff im Kulturhaus Walle Brodelpott
DESCRIPTION:Unser offener Treff für Geschichtsinteressierte: Aktuelle Recherchen der Geschichtswerkstatt\, Neues und Altes aus dem Bild- und Tonarchiv\, Informationen. Neue Mitglieder sind willkommen. Anmeldung unter 388 70 74 \nEintritt frei
URL:https://www.kulturhauswalle.de/event/geschichtstreff-im-kulturhaus-walle-brodelpott-3/
LOCATION:Kulturhaus Walle
CATEGORIES:Geschichte
ATTACH;FMTTYPE=image/jpeg:https://www.kulturhauswalle.de/wp-content/uploads/2021/08/kulturhauswalle_bibliothek_geschichtstreff_14September2021.jpg
END:VEVENT
BEGIN:VEVENT
DTSTART;TZID=UTC:20220308T150000
DTEND;TZID=UTC:20220308T170000
DTSTAMP:20260422T003021
CREATED:20220214T111446Z
LAST-MODIFIED:20220602T114556Z
UID:10000616-1646751600-1646758800@www.kulturhauswalle.de
SUMMARY:Die Sütterlinstunde – Hilfe bei der Transkription alter Dokumente
DESCRIPTION:Immer weniger Menschen könnnen Sütterlin\, die Schreibschrift\, die unsere Großeltern und Urgroßeltern in der Schule lernten\, noch gut lesen. Viele alte Familienerinnerungen sind jedoch in dieser Schrift verfasst und für Ungeübte mittlerweile nur noch schwer zu entziffern. Hier wollen wir mit unserer neuen Reihe ansetzen. \nZweimal im Monat lädt das Geschichtskontor im Kulturhaus Walle unter Leitung von Dr. Andree Brumshagen zur offenen Sütterlinstunde ein und unterstützt Sie bei der Transkription Ihrer Dokumente in alten Handschriften. Kurze Texte wie Bildunterschriften\, Postkarten und Urkunden\, die in Sütterlin oder in deutscher Schreibschrift geschrieben sind\, können Sie sich in der Sütterlinstunde auch direkt vor Ort übersetzen lassen. \nEintritt frei! \nAnmeldung unter: \nTelefon: 3887074\, E-mail: a.piplak@kulturhauswalle.de
URL:https://www.kulturhauswalle.de/event/die-suetterlinstunde-hilfe-bei-der-transkription-alter-dokumente-8/
LOCATION:Kulturhaus Walle
CATEGORIES:Geschichte,Treffs | Gruppen
ATTACH;FMTTYPE=image/jpeg:https://www.kulturhauswalle.de/wp-content/uploads/2021/12/Suetterlin_web.jpg
END:VEVENT
BEGIN:VEVENT
DTSTART;TZID=UTC:20220220T153000
DTEND;TZID=UTC:20220220T173000
DTSTAMP:20260422T003021
CREATED:20220110T122754Z
LAST-MODIFIED:20220219T042744Z
UID:10000614-1645371000-1645378200@www.kulturhauswalle.de
SUMMARY:ENTFÄLLT: Die Geschichte Vom Eisernen Heinrich: Bilderkino Mal Anders
DESCRIPTION:In Anlehnung an den Froschkönig der Gebrüder Grimm von und mit Ulrich Koprek (München)\nDer eiserne Heinrich ist berühmt\, aber keiner kennt ihn. Das Märchen der Gebrüder Grimm\nheisst :“Der Froschkönig oder der eiserne Heinrich“ und da geht es viel um eine wunderschöne\nPrinzessin und mit dem Frosch auch um einen Prinzen. So einer gehört zu einer Prinzessin ja\nimmer irgendwie dazu. Aber wer ist Heinrich und warum ist der so wichtig\, dass er im Titel des\nMärchens genannt wird? Er taucht in der Geschichte ja erst zum Schluss kurz auf. Natürlich sind\neiserne Ringe \, um das Herz gelegt\, schon ein ziemlicher Hammer und das Bild vergisst man auch\nnicht so leicht. Aber wer macht so etwas? Was\, wenn das alle Diener des Königs gemacht hätten?\nNein\, der Heinrich ist schon ein ganz Besonderer. Und wer Heinrich ist\, das wollte ich wissen! Es\ngibt zahllose Geschichten von Prinzessinnen und Prinzen\, von Königen und Feen\, aber nicht von\n„Heinrichen“\, der ist einmalig. Und so habe ich seine Geschichte aufgeschrieben und gemalt und\nwer sie hören und sehen will\, sei herzlich eingeladen. \nFür Kinder ab 6 Jahren\nAnmeldung erbeten: 0421/388 70 73 | bibliothek@kulturhauswalle.de\nEintritt frei
URL:https://www.kulturhauswalle.de/event/die-geschichte-vom-eisernen-heinrich-bilderkino-mal-anders/
LOCATION:Kulturhaus Walle
CATEGORIES:Bibliothek
ATTACH;FMTTYPE=image/jpeg:https://www.kulturhauswalle.de/wp-content/uploads/2022/01/Heinrich-2-web.jpg
END:VEVENT
BEGIN:VEVENT
DTSTART;TZID=UTC:20220213T160000
DTEND;TZID=UTC:20220422T160000
DTSTAMP:20260422T003021
CREATED:20211116T114441Z
LAST-MODIFIED:20220118T081207Z
UID:10000595-1644768000-1650643200@www.kulturhauswalle.de
SUMMARY:Sven Lohmeier: Überseestadt im Fluss - Ausstellung
DESCRIPTION:Mit der Kamera oder dem Smartphone unterwegs in der Überseestadt hat sich der Bremer Sven Lohmeier auf die Suche nach Motiven gemacht die das Treiben in diesem vielseitigen Stadtteil widerspiegeln. Dabei traf er auf ein pulsierendes Quartier\, das von den schnellen städtebaulichen Entwicklungen lebt. Alte Hafenanlagen\, historische Backsteingebäude\, Lagerhallen\, moderne Bürohäuser\, Kranführer\, Fahrradfahrer*innen und Tourist*innen  inspirierten den Amateurfotografen zu stimmungsvollen Bildern\, die die Entwicklung des Hafenreviers dokumentieren. Anfang 2020 entstand die Idee\, aus dem Material ein Buch zu produzieren und die Fotografien im Rahmen einer Ausstellung im Kulturhaus Walle e.V. zu präsentieren. Das Buch kann im Kulturhaus Walle erworben werden\, ein Teil des Erlöses kommt unserer Kulturarbeit zugute. \nAusstellung: 13.2. – 22.4.2022\nEröffnung: Sonntag 13.2. / 16:00 Uhr
URL:https://www.kulturhauswalle.de/event/ueberseestadt-im-fluss/
LOCATION:Kulturhaus Walle
ATTACH;FMTTYPE=image/jpeg:https://www.kulturhauswalle.de/wp-content/uploads/2021/11/europahafenkopf-zech-06_web.jpg
END:VEVENT
BEGIN:VEVENT
DTSTART;TZID=UTC:20220128T160000
DTEND;TZID=UTC:20220128T160000
DTSTAMP:20260422T003021
CREATED:20211117T122957Z
LAST-MODIFIED:20220119T122515Z
UID:10000597-1643385600-1643385600@www.kulturhauswalle.de
SUMMARY:ENTFÄLLT – Kleidertauschcafé im Kulturhaus Walle
DESCRIPTION:Aufgrund der Pandemie entfällt die Veranstaltung. \nBeim Öffnen Eures Kleiderschranks droht Lawinengefahr?\nEure Kleiderstange biegt sich in der Mitte durch?\nImmer wieder findet Ihr zuhause Klamotten\, von denen Ihr schon gar nicht mehr wusstet\, dass Ihr sie je gekauft hattet? \nUnd trotzdem steht Ihr jeden Tag von neuem vor dem Problem\, dass Ihr einfach nichts zum Anziehen findet? \nKeine Panik\, denn damit seid Ihr nicht allein! Unser Kleidertauschcafé im Brodelpott bietet euch die Möglichkeit\, andere Betroffene kennenzulernen und Euch mit ihnen auszutauschen. Und das Austauschen meinen wir wörtlich: Ihr könnt euch hier von Kleiderschrankleichen oder Fehlkäufen trennen und im Gegenzug vielleicht genau das passende Teil für Euch unter den Klamotten finden\, die andere mitgebracht haben. \nDas ist nicht nur im Sinne der gegenseitigen Beglückung praktisch\, sondern nutzt auch noch der Umwelt. Denn wer zu Second Hand Kleidung greift\, statt den neuesten Kreationen der Modeindustrie hinterher zu hecheln und alles wegzuschmeißen\, was nicht die Trendfarben der Saison hat\, der produziert weniger unnötigen Müll. Außerdem leistet man damit einen kleinen aber in der Masse vielleicht gar nicht mal so unwichtigen Beitrag dazu\, dass es endlich zu einem Umdenken über den Wert von Kleidung kommt und mehr Menschen den Weg von der Fast Fashion zur Slow Fashion für sich entdecken! \nDamit nicht alles drunter und drüber geht und auch hier niemand in Kleiderbergen versinkt\, haben wir uns da ein System überlegt: Pro Person werden ein paar Stücke gut erhaltener Kleidung mitgebracht. Vor Ort sortiert Ihr Eure Sachen gemäß unseren Schildern. Anschließend dürft Ihr gerne stöbern und mitnehmen\, was Euch gefällt. Und wenn am Ende etwas übrig ist\, dann bleibt auch das natürlich nicht ungenutzt\, sondern wird von uns an soziale Einrichtungen weitergegeben. \n 
URL:https://www.kulturhauswalle.de/event/kleidertauschcafe-3/
LOCATION:Kulturhaus Walle
ATTACH;FMTTYPE=image/jpeg:https://www.kulturhauswalle.de/wp-content/uploads/2021/11/kleidertauschcafe_web.jpg
END:VEVENT
BEGIN:VEVENT
DTSTART;TZID=UTC:20211214T190000
DTEND;TZID=UTC:20211214T190000
DTSTAMP:20260422T003021
CREATED:20211103T133126Z
LAST-MODIFIED:20211201T085924Z
UID:10000592-1639508400-1639508400@www.kulturhauswalle.de
SUMMARY:Ukel-Session - präsentiert vom 1. Bremer Ukulelenorchester
DESCRIPTION:Beim offenen Ukulelen-Stammtisch des 1. Bremer Ukulelenorchesters\, an dem sich Ukulelisten und Ukulistinnen aus Bremen und Umzu treffen\, werden Songs von Pop über Folk und Country bis zum Blues gespielt. Neueinsteiger\, Beginner und Reinschnupperer sind immer herzlich willkommen. \nEintritt frei\, Spenden willkommen
URL:https://www.kulturhauswalle.de/event/ukel-session-praesentiert-vom-1-bremer-ukulelenorchester/
LOCATION:Kulturhaus Walle
CATEGORIES:Bühne | Events
ATTACH;FMTTYPE=image/jpeg:https://www.kulturhauswalle.de/wp-content/uploads/2021/11/Kulturhauswalle_flower-ausschnitt_3-640x480-3.jpg
END:VEVENT
BEGIN:VEVENT
DTSTART;TZID=UTC:20211212T160000
DTEND;TZID=UTC:20211212T160000
DTSTAMP:20260422T003021
CREATED:20211116T145716Z
LAST-MODIFIED:20211130T051759Z
UID:10000596-1639324800-1639324800@www.kulturhauswalle.de
SUMMARY:ABGESAGT: Adventskonzert mit Kaffee\, Kuchen und Punsch
DESCRIPTION:Zu weihnachtlicher und weniger weihnachtlicher Musik gibt es bei uns einen heiter-besinnlichen Adventsnachmittag. Den Anfang macht das dynamische Duo aus Uta Fasold an der Querflöte und Mariska Nijhof am Akkordeon.  Danach schlägt Fritz Mosig auf der Steel Drum besinnlichere Töne an. Abgerundet wird das Programm von der Gitarristin Catharina Mahnke. \nGeöffnet ist auch das Bib Café mit Kaffee\, Kuchen und Punsch.\nTelefonische Anmeldung: 3887073 oder per mail: bibliothek@kulturhauswalle.de\nEintritt frei\, Spenden willkommen!
URL:https://www.kulturhauswalle.de/event/adventskonzert/
LOCATION:Kulturhaus Walle
CATEGORIES:Bibliothek
ATTACH;FMTTYPE=image/png:https://www.kulturhauswalle.de/wp-content/uploads/2021/11/Advent_web.png
END:VEVENT
BEGIN:VEVENT
DTSTART;TZID=UTC:20211207T183000
DTEND;TZID=UTC:20211207T220000
DTSTAMP:20260422T003021
CREATED:20211103T124215Z
LAST-MODIFIED:20211207T133946Z
UID:10000589-1638901800-1638914400@www.kulturhauswalle.de
SUMMARY:ABGESAGT: Offener Doppelkopfabend
DESCRIPTION:Der nächste Doppelkopfabend findet am Dienstag\, den 7.12. von 18.30 Uhr bis 22.00 Uhr statt. Ganz gleich\, ob man nur die Grundkenntnisse des Spiels beherrscht oder schon viel Spielerfahrung mitbringt\, alle Interessierten sind herzlich eingeladen\, an dem neuen Spieleabend teilzunehmen. In gemütlicher Atmosphäre im Brodelpottcafé wollen wir einen unterhaltsamen Abend miteinander verbringen. Weitere Dokoabende sind für jeden ersten Dienstag im Monat geplant.
URL:https://www.kulturhauswalle.de/event/doppelkopf-mit-schweinen-karlchen-und-ohne-neunen/
LOCATION:Kulturhaus Walle
ATTACH;FMTTYPE=image/jpeg:https://www.kulturhauswalle.de/wp-content/uploads/2021/09/playing-cards-262057_1920-e1683645052642.jpg
END:VEVENT
BEGIN:VEVENT
DTSTART;TZID=UTC:20211130T150000
DTEND;TZID=UTC:20211130T170000
DTSTAMP:20260422T003021
CREATED:20211103T121512Z
LAST-MODIFIED:20220602T114635Z
UID:10000588-1638284400-1638291600@www.kulturhauswalle.de
SUMMARY:Die Sütterlinstunde – Hilfe bei der Transkription alter Dokumente
DESCRIPTION:Immer weniger Menschen könnnen Sütterlin\, die Schreibschrift\, die unsere Großeltern und Urgroßeltern in der Schule lernten\, noch gut lesen. Viele alte Familienerinnerungen sind jedoch in dieser Schrift verfasst und für Ungeübte mittlerweile nur noch schwer zu entziffern. Hier wollen wir mit unserer neuen Reihe ansetzen. \nZweimal im Monat lädt das Geschichtskontor im Kulturhaus Walle unter Leitung von Dr. André Brumshagen zur offenen Sütterlinstunde ein und unterstützt Sie bei der Transkription  Ihrer Dokumente in alten Handschriften. Kurze Texte wie Bildunterschriften\, Postkarten und Urkunden\, die in Sütterlin oder in deutscher Schreibschrift geschrieben sind\, können Sie sich in der Sütterlinstunde auch direkt vor Ort übersetzen lassen. \n15.00 -17.00 Uhr\, Kulturhaus Walle Brodelpott im Geschichtskontor \nWir bitten um Anmeldung bei:\nFrau Angela Piplak\nTel: 388 70 74\nMail: a.piplak@kulturhauswalle.de
URL:https://www.kulturhauswalle.de/event/die-suetterlinstunde-hilfe-bei-der-transkription-alter-dokumente-2/
LOCATION:Kulturhaus Walle
CATEGORIES:Geschichte,Treffs | Gruppen
END:VEVENT
BEGIN:VEVENT
DTSTART;TZID=UTC:20211102T183000
DTEND;TZID=UTC:20211102T220000
DTSTAMP:20260422T003021
CREATED:20211005T091320Z
LAST-MODIFIED:20211006T105318Z
UID:10000573-1635877800-1635890400@www.kulturhauswalle.de
SUMMARY:Doppelkopf: Mit Schweinen\, Karlchen und ohne Neunen
DESCRIPTION:Der nächste Doppelkopfabend findet am Dienstag\, den 2.11. von 18.30 Uhr bis 22.00 Uhr statt. Ganz gleich\, ob man nur die Grundkenntnisse des Spiels beherrscht oder schon viel Spielerfahrung mitbringt\, alle Interessierten sind herzlich eingeladen\, an dem neuen Spieleabend teilzunehmen. In gemütlicher Athmosphäre im Brodelpottcafé wollen wir einen unterhaltsamen Abend miteinander verbringen. Weitere Dokoabende sind für jeden ersten Dienstag im Monat geplant. \nDer Eintritt ist frei. Anmeldungen bei Ingrid Räder: 0421/829935 oder unter i.raeder@kulturhauswalle.de \n 
URL:https://www.kulturhauswalle.de/event/doppelkopfabend-mit-schweinen-karlchen-und-ohne-neunen/
LOCATION:Kulturhaus Walle
ATTACH;FMTTYPE=image/jpeg:https://www.kulturhauswalle.de/wp-content/uploads/2021/09/playing-cards-262057_1920-e1683645052642.jpg
END:VEVENT
END:VCALENDAR